BEGIN:VCALENDAR
VERSION:2.0
PRODID:-//Producciones Puentes - ECPv6.15.19//NONSGML v1.0//EN
CALSCALE:GREGORIAN
METHOD:PUBLISH
X-WR-CALNAME:Producciones Puentes
X-ORIGINAL-URL:https://www.produccionespuentes.es
X-WR-CALDESC:Eventos para Producciones Puentes
REFRESH-INTERVAL;VALUE=DURATION:PT1H
X-Robots-Tag:noindex
X-PUBLISHED-TTL:PT1H
BEGIN:VTIMEZONE
TZID:Europe/Madrid
BEGIN:DAYLIGHT
TZOFFSETFROM:+0100
TZOFFSETTO:+0200
TZNAME:CEST
DTSTART:20250330T010000
END:DAYLIGHT
BEGIN:STANDARD
TZOFFSETFROM:+0200
TZOFFSETTO:+0100
TZNAME:CET
DTSTART:20251026T010000
END:STANDARD
BEGIN:DAYLIGHT
TZOFFSETFROM:+0100
TZOFFSETTO:+0200
TZNAME:CEST
DTSTART:20260329T010000
END:DAYLIGHT
BEGIN:STANDARD
TZOFFSETFROM:+0200
TZOFFSETTO:+0100
TZNAME:CET
DTSTART:20261025T010000
END:STANDARD
BEGIN:DAYLIGHT
TZOFFSETFROM:+0100
TZOFFSETTO:+0200
TZNAME:CEST
DTSTART:20270328T010000
END:DAYLIGHT
BEGIN:STANDARD
TZOFFSETFROM:+0200
TZOFFSETTO:+0100
TZNAME:CET
DTSTART:20271031T010000
END:STANDARD
END:VTIMEZONE
BEGIN:VEVENT
DTSTART;VALUE=DATE:20260508
DTEND;VALUE=DATE:20260510
DTSTAMP:20260422T145425
CREATED:20260411T101307Z
LAST-MODIFIED:20260411T101307Z
UID:5271-1778202000-1778288399@www.produccionespuentes.es
SUMMARY:CARLOS JEAN
DESCRIPTION:Carlos Jean en directo en Puertollano\n📍 Plaza de Toros de Puertollano📅 Viernes\, 8 de mayo \nPuertollano se prepara para una noche única con la llegada de uno de los grandes referentes de la música electrónica y el espectáculo en España: Carlos Jean. \nCon una trayectoria consolidada y una energía inconfundible sobre el escenario\, Carlos Jean ofrecerá un show en directo donde se fusionan electrónica\, pop y sonidos actuales en una sesión vibrante que hará disfrutar al público desde el primer minuto. \nUna experiencia musical pensada para todos los públicos\, con un montaje dinámico\, ritmo constante y la garantía de uno de los DJs más reconocidos del panorama nacional. \n🔥 Una cita imprescindible para los amantes de la música en directo y la fiesta. \n🎟️ Entradas disponibles en giglon.com
URL:https://www.produccionespuentes.es/evento/carlos-jean/
ATTACH;FMTTYPE=image/jpeg:https://www.produccionespuentes.es/wp-content/uploads/2026/04/Carlos-Jean_Puertollano.jpeg
END:VEVENT
END:VCALENDAR