BEGIN:VCALENDAR
VERSION:2.0
PRODID:-//Producciones Puentes - ECPv6.15.19//NONSGML v1.0//EN
CALSCALE:GREGORIAN
METHOD:PUBLISH
X-WR-CALNAME:Producciones Puentes
X-ORIGINAL-URL:https://www.produccionespuentes.es
X-WR-CALDESC:Eventos para Producciones Puentes
REFRESH-INTERVAL;VALUE=DURATION:PT1H
X-Robots-Tag:noindex
X-PUBLISHED-TTL:PT1H
BEGIN:VTIMEZONE
TZID:Europe/Madrid
BEGIN:DAYLIGHT
TZOFFSETFROM:+0100
TZOFFSETTO:+0200
TZNAME:CEST
DTSTART:20240331T010000
END:DAYLIGHT
BEGIN:STANDARD
TZOFFSETFROM:+0200
TZOFFSETTO:+0100
TZNAME:CET
DTSTART:20241027T010000
END:STANDARD
BEGIN:DAYLIGHT
TZOFFSETFROM:+0100
TZOFFSETTO:+0200
TZNAME:CEST
DTSTART:20250330T010000
END:DAYLIGHT
BEGIN:STANDARD
TZOFFSETFROM:+0200
TZOFFSETTO:+0100
TZNAME:CET
DTSTART:20251026T010000
END:STANDARD
BEGIN:DAYLIGHT
TZOFFSETFROM:+0100
TZOFFSETTO:+0200
TZNAME:CEST
DTSTART:20260329T010000
END:DAYLIGHT
BEGIN:STANDARD
TZOFFSETFROM:+0200
TZOFFSETTO:+0100
TZNAME:CET
DTSTART:20261025T010000
END:STANDARD
END:VTIMEZONE
BEGIN:VEVENT
DTSTART;TZID=Europe/Madrid:20250912T233000
DTEND;TZID=Europe/Madrid:20250912T233000
DTSTAMP:20260419T145359
CREATED:20250826T090113Z
LAST-MODIFIED:20250826T090143Z
UID:4943-1757719800-1757719800@www.produccionespuentes.es
SUMMARY:COSITA WENA
DESCRIPTION:Actuación el viernes 12 de septiembre a las 23:30h. en la Plaza del Ayuntamiento de Torredonjimeno de Cosita Wena.
URL:https://www.produccionespuentes.es/evento/cosita-wena-torredonjimeno/
ATTACH;FMTTYPE=image/jpeg:https://www.produccionespuentes.es/wp-content/uploads/2025/08/Cosita-Wena_Torredonjimeno.jpeg
END:VEVENT
END:VCALENDAR